BEGIN:VCALENDAR
PRODID;X-RICAL-TZSOURCE=TZINFO:-//com.denhaven2/NONSGML ri_cal gem//EN
CALSCALE:GREGORIAN
VERSION:2.0
BEGIN:VEVENT
CONTACT:
DTEND;VALUE=DATE:20090601
DTSTART;VALUE=DATE:20090530
GEO:43.811897;-87.948265
UID:1972648
DESCRIPTION:
URL:
SUMMARY:MILWAUKEE MAY 30-31 DOUBLE REGIONAL
LOCATION:Road America
BEGIN:VALARM
TRIGGER:-PT15H
DESCRIPTION:MILWAUKEE MAY 30-31 DOUBLE REGIONAL
ACTION:AUDIO
END:VALARM
END:VEVENT
END:VCALENDAR
