BEGIN:VCALENDAR
PRODID;X-RICAL-TZSOURCE=TZINFO:-//com.denhaven2/NONSGML ri_cal gem//EN
CALSCALE:GREGORIAN
VERSION:2.0
BEGIN:VEVENT
CONTACT:
DTEND;VALUE=DATE:20090525
DTSTART;VALUE=DATE:20090523
GEO:43.363162;-71.4605438
UID:1972596
DESCRIPTION:
URL:
SUMMARY:NEW ENGLAND MAY 23-24 DOUBLE REGIONAL
LOCATION:New Hampshire Motor Speedway
BEGIN:VALARM
TRIGGER:-PT15H
DESCRIPTION:NEW ENGLAND MAY 23-24 DOUBLE REGIONAL
ACTION:AUDIO
END:VALARM
END:VEVENT
END:VCALENDAR
