BEGIN:VCALENDAR
PRODID;X-RICAL-TZSOURCE=TZINFO:-//com.denhaven2/NONSGML ri_cal gem//EN
CALSCALE:GREGORIAN
VERSION:2.0
BEGIN:VEVENT
CONTACT:
DTEND;VALUE=DATE:20120312
DTSTART;VALUE=DATE:20120310
GEO:39.2419595;-77.9551625
UID:1972564
DESCRIPTION:
URL:
SUMMARY:PDX Saturday & Sunday morning/Track Trials afternoon at Summit Po
 int Raceway
LOCATION:Summit Point Raceway
BEGIN:VALARM
TRIGGER:-PT15H
DESCRIPTION:PDX Saturday & Sunday morning/Track Trials afternoon at Summi
 t Point Raceway
ACTION:AUDIO
END:VALARM
END:VEVENT
END:VCALENDAR
