BEGIN:VCALENDAR
PRODID;X-RICAL-TZSOURCE=TZINFO:-//com.denhaven2/NONSGML ri_cal gem//EN
CALSCALE:GREGORIAN
VERSION:2.0
BEGIN:VEVENT
CONTACT:
DTEND;VALUE=DATE:20090608
DTSTART;VALUE=DATE:20090606
GEO:39.611754;-119.2222065
UID:1972488
DESCRIPTION:
URL:
SUMMARY:RENO JUNE 6-7 DOUBLE NATIONAL
LOCATION:Reno-Fernley Raceway
BEGIN:VALARM
TRIGGER:-PT15H
DESCRIPTION:RENO JUNE 6-7 DOUBLE NATIONAL
ACTION:AUDIO
END:VALARM
END:VEVENT
END:VCALENDAR
