BEGIN:VCALENDAR
PRODID;X-RICAL-TZSOURCE=TZINFO:-//com.denhaven2/NONSGML ri_cal gem//EN
CALSCALE:GREGORIAN
VERSION:2.0
BEGIN:VEVENT
CONTACT:
DTEND;VALUE=DATE:20130513
DTSTART;VALUE=DATE:20130511
GEO:36.5735665;-79.0041065
UID:1972480
DESCRIPTION:
URL:www.ncrscca.com/
SUMMARY:Double SARRC/Double MARRS 
LOCATION:Virginia International Raceway
BEGIN:VALARM
TRIGGER:-PT15H
DESCRIPTION:Double SARRC/Double MARRS 
ACTION:AUDIO
END:VALARM
END:VEVENT
END:VCALENDAR
