BEGIN:VCALENDAR
PRODID;X-RICAL-TZSOURCE=TZINFO:-//com.denhaven2/NONSGML ri_cal gem//EN
CALSCALE:GREGORIAN
VERSION:2.0
BEGIN:VEVENT
CONTACT:
DTEND;VALUE=DATE:20111011
DTSTART;VALUE=DATE:20111006
GEO:42.349652;-76.9172025
UID:1972420
DESCRIPTION:
URL:
SUMMARY:The Last Chance of 2011 at Watkins Glen Int'l Race Track
LOCATION:Watkins Glen International
BEGIN:VALARM
TRIGGER:-PT15H
DESCRIPTION:The Last Chance of 2011 at Watkins Glen Int'l Race Track
ACTION:AUDIO
END:VALARM
END:VEVENT
END:VCALENDAR
