BEGIN:VCALENDAR
PRODID;X-RICAL-TZSOURCE=TZINFO:-//com.denhaven2/NONSGML ri_cal gem//EN
CALSCALE:GREGORIAN
VERSION:2.0
BEGIN:VEVENT
CONTACT:
DTEND;VALUE=DATE:20130527
DTSTART;VALUE=DATE:20130525
GEO:39.068359;-104.517754
UID:1972254
DESCRIPTION:
URL:www.scca-cdr.org/
SUMMARY:Pikes Peak Double Majors
LOCATION:Pikes Peak International Raceway
BEGIN:VALARM
TRIGGER:-PT15H
DESCRIPTION:Pikes Peak Double Majors
ACTION:AUDIO
END:VALARM
END:VEVENT
END:VCALENDAR
