BEGIN:VCALENDAR
PRODID;X-RICAL-TZSOURCE=TZINFO:-//com.denhaven2/NONSGML ri_cal gem//EN
CALSCALE:GREGORIAN
VERSION:2.0
BEGIN:VEVENT
CONTACT:
DTEND;VALUE=DATE:20120604
DTSTART;VALUE=DATE:20120601
UID:1972248
DESCRIPTION:
URL:
SUMMARY:World Challenge at Belle Isle\, Detroit 6/1/12-6/3/12
LOCATION:
BEGIN:VALARM
TRIGGER:-PT15H
DESCRIPTION:World Challenge at Belle Isle\, Detroit 6/1/12-6/3/12
ACTION:AUDIO
END:VALARM
END:VEVENT
END:VCALENDAR
