BEGIN:VCALENDAR
PRODID;X-RICAL-TZSOURCE=TZINFO:-//com.denhaven2/NONSGML ri_cal gem//EN
CALSCALE:GREGORIAN
VERSION:2.0
BEGIN:VEVENT
CONTACT:
DTEND;VALUE=DATE:20140728
DTSTART;VALUE=DATE:20140726
GEO:43.811897;-87.948265
UID:1972202
DESCRIPTION:
URL:www.scca.com/events/index.cfm?eid=6742
SUMMARY:Road America Cat Majors
LOCATION:Road America
BEGIN:VALARM
TRIGGER:-PT15H
DESCRIPTION:Road America Cat Majors
ACTION:AUDIO
END:VALARM
END:VEVENT
END:VCALENDAR
