BEGIN:VCALENDAR
PRODID;X-RICAL-TZSOURCE=TZINFO:-//com.denhaven2/NONSGML ri_cal gem//EN
CALSCALE:GREGORIAN
VERSION:2.0
BEGIN:VEVENT
CONTACT:
DTEND;VALUE=DATE:20140708
DTSTART;VALUE=DATE:20140704
GEO:42.349652;-76.9172025
UID:1972196
DESCRIPTION:
URL:www.scca.com/events/index.cfm?eid=6892
SUMMARY:BFGoodrich Tires Watkins Glen Super Tour
LOCATION:Watkins Glen International
BEGIN:VALARM
TRIGGER:-PT15H
DESCRIPTION:BFGoodrich Tires Watkins Glen Super Tour
ACTION:AUDIO
END:VALARM
END:VEVENT
END:VCALENDAR
