BEGIN:VCALENDAR
PRODID;X-RICAL-TZSOURCE=TZINFO:-//com.denhaven2/NONSGML ri_cal gem//EN
CALSCALE:GREGORIAN
VERSION:2.0
BEGIN:VEVENT
CONTACT:
DTEND;VALUE=DATE:20090420
DTSTART;VALUE=DATE:20090417
GEO:36.5735665;-79.0041065
UID:1972176
DESCRIPTION:
URL:
SUMMARY:NORTH CAROLINA APRIL 17-19 DOUBLE NATIONAL TRANS AM
LOCATION:Virginia International Raceway
BEGIN:VALARM
TRIGGER:-PT15H
DESCRIPTION:NORTH CAROLINA APRIL 17-19 DOUBLE NATIONAL TRANS AM
ACTION:AUDIO
END:VALARM
END:VEVENT
END:VCALENDAR
