BEGIN:VCALENDAR
PRODID;X-RICAL-TZSOURCE=TZINFO:-//com.denhaven2/NONSGML ri_cal gem//EN
CALSCALE:GREGORIAN
VERSION:2.0
BEGIN:VEVENT
CONTACT:
DTEND;VALUE=DATE:20130422
DTSTART;VALUE=DATE:20130420
GEO:43.363162;-71.4605438
UID:1972172
DESCRIPTION:
URL:www.ne.org
SUMMARY:Winter's finally over Double Regional
LOCATION:New Hampshire Motor Speedway
BEGIN:VALARM
TRIGGER:-PT15H
DESCRIPTION:Winter's finally over Double Regional
ACTION:AUDIO
END:VALARM
END:VEVENT
END:VCALENDAR
