BEGIN:VCALENDAR
PRODID;X-RICAL-TZSOURCE=TZINFO:-//com.denhaven2/NONSGML ri_cal gem//EN
CALSCALE:GREGORIAN
VERSION:2.0
BEGIN:VEVENT
CONTACT:
DTEND;VALUE=DATE:20140317
DTSTART;VALUE=DATE:20140314
UID:1972166
DESCRIPTION:
URL:www.scca.com/events/index.cfm?eid=6778
SUMMARY:Eagles Canyon Majors
LOCATION:
BEGIN:VALARM
TRIGGER:-PT15H
DESCRIPTION:Eagles Canyon Majors
ACTION:AUDIO
END:VALARM
END:VEVENT
END:VCALENDAR
