BEGIN:VCALENDAR
PRODID;X-RICAL-TZSOURCE=TZINFO:-//com.denhaven2/NONSGML ri_cal gem//EN
CALSCALE:GREGORIAN
VERSION:2.0
BEGIN:VEVENT
CONTACT:
DTEND;VALUE=DATE:20080414
DTSTART;VALUE=DATE:20080411
GEO:43.363162;-71.4605438
UID:1972114
DESCRIPTION:
URL:
SUMMARY:NEW ENGLAND APR 11-13 REGIONALS
LOCATION:New Hampshire Motor Speedway
BEGIN:VALARM
TRIGGER:-PT15H
DESCRIPTION:NEW ENGLAND APR 11-13 REGIONALS
ACTION:AUDIO
END:VALARM
END:VEVENT
END:VCALENDAR
