BEGIN:VCALENDAR
PRODID;X-RICAL-TZSOURCE=TZINFO:-//com.denhaven2/NONSGML ri_cal gem//EN
CALSCALE:GREGORIAN
VERSION:2.0
BEGIN:VEVENT
CONTACT:
DTEND;VALUE=DATE:20101012
DTSTART;VALUE=DATE:20101008
GEO:42.349652;-76.9172025
UID:1972082
DESCRIPTION:
URL:
SUMMARY:Glen October 8-10 Regional/Enduro/Driver School - Watkins Glen In
 t'l
LOCATION:Watkins Glen International
BEGIN:VALARM
TRIGGER:-PT15H
DESCRIPTION:Glen October 8-10 Regional/Enduro/Driver School - Watkins Gle
 n Int'l
ACTION:AUDIO
END:VALARM
END:VEVENT
END:VCALENDAR
