BEGIN:VCALENDAR
PRODID;X-RICAL-TZSOURCE=TZINFO:-//com.denhaven2/NONSGML ri_cal gem//EN
CALSCALE:GREGORIAN
VERSION:2.0
BEGIN:VEVENT
CONTACT:
DTEND;VALUE=DATE:20110509
DTSTART;VALUE=DATE:20110506
GEO:41.309998;-81.0149
UID:1972060
DESCRIPTION:
URL:
SUMMARY:Great Lakes Division Double Driver School at Nelson Ledges
LOCATION:Nelson Ledges Road Course
BEGIN:VALARM
TRIGGER:-PT15H
DESCRIPTION:Great Lakes Division Double Driver School at Nelson Ledges
ACTION:AUDIO
END:VALARM
END:VEVENT
END:VCALENDAR
