BEGIN:VCALENDAR
PRODID;X-RICAL-TZSOURCE=TZINFO:-//com.denhaven2/NONSGML ri_cal gem//EN
CALSCALE:GREGORIAN
VERSION:2.0
BEGIN:VEVENT
CONTACT:
DTEND;VALUE=DATE:20110619
DTSTART;VALUE=DATE:20110617
GEO:41.9322325;-73.384684
UID:1972040
DESCRIPTION:
URL:
SUMMARY:"Summer School" Restricted Competition Drivers' School/ "School's
  Out" NERRC & NARRC Regional Races @ Lime Rock Park
LOCATION:Lime Rock Park
BEGIN:VALARM
TRIGGER:-PT15H
DESCRIPTION:"Summer School" Restricted Competition Drivers' School/ "Scho
 ol's Out" NERRC & NARRC Regional Races @ Lime Rock Park
ACTION:AUDIO
END:VALARM
END:VEVENT
END:VCALENDAR
