BEGIN:VCALENDAR
PRODID;X-RICAL-TZSOURCE=TZINFO:-//com.denhaven2/NONSGML ri_cal gem//EN
CALSCALE:GREGORIAN
VERSION:2.0
BEGIN:VEVENT
CONTACT:
DTEND;VALUE=DATE:20120514
DTSTART;VALUE=DATE:20120511
GEO:39.3591;-75.06077
UID:1972018
DESCRIPTION:
URL:www.njrrs.com/
SUMMARY:Fidelity Power Systems Pro IT Series Rounds 1 & 2 at New Jersey M
 otorsports Park
LOCATION:New Jersey Motorsports Park
BEGIN:VALARM
TRIGGER:-PT15H
DESCRIPTION:Fidelity Power Systems Pro IT Series Rounds 1 & 2 at New Jers
 ey Motorsports Park
ACTION:AUDIO
END:VALARM
END:VEVENT
END:VCALENDAR
