BEGIN:VCALENDAR
PRODID;X-RICAL-TZSOURCE=TZINFO:-//com.denhaven2/NONSGML ri_cal gem//EN
CALSCALE:GREGORIAN
VERSION:2.0
BEGIN:VEVENT
CONTACT:
DTEND;VALUE=DATE:20140722
DTSTART;VALUE=DATE:20140719
GEO:27.450897;-81.358373
UID:1972004
DESCRIPTION:
URL:www.cfrscca.org/
SUMMARY:Driver School/Vintage/Enduro/PDX
LOCATION:Sebring International Raceway
BEGIN:VALARM
TRIGGER:-PT15H
DESCRIPTION:Driver School/Vintage/Enduro/PDX
ACTION:AUDIO
END:VALARM
END:VEVENT
END:VCALENDAR
