BEGIN:VCALENDAR
PRODID;X-RICAL-TZSOURCE=TZINFO:-//com.denhaven2/NONSGML ri_cal gem//EN
CALSCALE:GREGORIAN
VERSION:2.0
BEGIN:VEVENT
CONTACT:
DTEND;VALUE=DATE:20130506
DTSTART;VALUE=DATE:20130504
GEO:29.1938485;-81.0648765
UID:1972002
DESCRIPTION:
URL:www.cfrscca.org
SUMMARY:CFR Regional/TES Enduro @ Daytona Int'l Speedway
LOCATION:Daytona International Speedway
BEGIN:VALARM
TRIGGER:-PT15H
DESCRIPTION:CFR Regional/TES Enduro @ Daytona Int'l Speedway
ACTION:AUDIO
END:VALARM
END:VEVENT
END:VCALENDAR
