BEGIN:VCALENDAR
PRODID;X-RICAL-TZSOURCE=TZINFO:-//com.denhaven2/NONSGML ri_cal gem//EN
CALSCALE:GREGORIAN
VERSION:2.0
BEGIN:VEVENT
CONTACT:
DTEND;VALUE=DATE:20090316
DTSTART;VALUE=DATE:20090314
GEO:35.499873;-119.5398505
UID:1971988
DESCRIPTION:
URL:
SUMMARY:CAL CLUB MAR 14-15\, 2009 DBL REGIONAL
LOCATION:Buttonwillow Raceway Park
BEGIN:VALARM
TRIGGER:-PT15H
DESCRIPTION:CAL CLUB MAR 14-15\, 2009 DBL REGIONAL
ACTION:AUDIO
END:VALARM
END:VEVENT
END:VCALENDAR
