BEGIN:VCALENDAR
PRODID;X-RICAL-TZSOURCE=TZINFO:-//com.denhaven2/NONSGML ri_cal gem//EN
CALSCALE:GREGORIAN
VERSION:2.0
BEGIN:VEVENT
CONTACT:
DTEND;VALUE=DATE:20151117
DTSTART;VALUE=DATE:20151114
GEO:26.9097585;-80.282493
UID:1971404
DESCRIPTION:
URL:http://www.floridaregionscca.com/
SUMMARY:Palm Beach Classic-2016 SARRC/2016 ECR/TES/FES Finale/Vintage
LOCATION:Palm Beach International Raceway
BEGIN:VALARM
TRIGGER:-PT15H
DESCRIPTION:Palm Beach Classic-2016 SARRC/2016 ECR/TES/FES Finale/Vintage
ACTION:AUDIO
END:VALARM
END:VEVENT
END:VCALENDAR
