BEGIN:VCALENDAR
PRODID;X-RICAL-TZSOURCE=TZINFO:-//com.denhaven2/NONSGML ri_cal gem//EN
CALSCALE:GREGORIAN
VERSION:2.0
BEGIN:VEVENT
CONTACT:
DTEND;VALUE=DATE:20151124
DTSTART;VALUE=DATE:20151122
UID:1971366
DESCRIPTION:CFR SCCA Solo (Autocross) Seminole State College Driving Pad 
 - Geneva\, FL This will be the 2015 Class Championship Event #17. Event 
 trophies for each class will be awarded and class championship points wi
 ll be accrued Novices are always welcome! Get more novice info here: Get
 ting Started ***Due to popular demand\, pre-registration is REQUIRED for
  this and future CFR Solo events. Pre-payment is still optional at all b
 ut Brooksville events.*** What to Bring: Valid Driver's License (or perm
 it) Valid SCCA Membership Card (or proof of membership) Non-Members\, ge
 t your Weekend SCCA membership here on DLB It's only $10\, but gets you 
 a $15 discount on SCCA Annual membership! And you DON'T have to do any p
 aperwork at the track Minors (under 18)\, bring a completed minor waiver
 \, see details below WATER (It gets hot\, especially on course shagging 
 cones!) Extra $ for food: We will have a food truck on site selling food
  Why Prepay? Everyone MUST PRE-REGISTER\, but you do not have to pre-pay
  There will be two lines onsite: One for preregistered and prepaid and w
 ill take &lt\; 30sec to check in One for those who have to pay (someone 
 could be writing a check in front of you!!) Plus you can get a refund or
  event credit if you can't make the event Minors (Under 18) Minor driver
 s or riders must bring a completed\, notarized\, minor waiver signed by 
 BOTH parents. (Notary waived If both parents are present to sign on site
 ) Minor attendees must have minor waiver completed by at least one paren
 t/guardian Get Minor Waiver here: Minor Waiver Fees $30 Entry Additional
  $10 SCCA Weekend Membership Fee for non-members Please read the supplem
 ental information that you must acknowledge after clicking the "Register
 " link ... don't just click through :)
URL:
SUMMARY:CFR Solo -  - November
LOCATION:
BEGIN:VALARM
TRIGGER:-PT15H
DESCRIPTION:CFR Solo -  - November
ACTION:AUDIO
END:VALARM
END:VEVENT
END:VCALENDAR
