BEGIN:VCALENDAR
PRODID;X-RICAL-TZSOURCE=TZINFO:-//com.denhaven2/NONSGML ri_cal gem//EN
CALSCALE:GREGORIAN
VERSION:2.0
BEGIN:VEVENT
CONTACT:webmaster@atlantascca.com
DTEND;VALUE=DATE:20151110
DTSTART;VALUE=DATE:20151106
GEO:34.152207;-83.809708
UID:1971210
DESCRIPTION:
URL:
SUMMARY:ARRC by GRM (2016 SARRC) Pro Series/PDX/2016 ECR
LOCATION:Michelin Raceway Road Atlanta
BEGIN:VALARM
TRIGGER:-PT15H
DESCRIPTION:ARRC by GRM (2016 SARRC) Pro Series/PDX/2016 ECR
ACTION:AUDIO
END:VALARM
END:VEVENT
END:VCALENDAR
